BEGIN:VCALENDAR
VERSION:2.0
PRODID:-//ChamberMaster//Event Calendar 2.0//EN
METHOD:PUBLISH
X-PUBLISHED-TTL:P3D
REFRESH-INTERVAL:P3D
CALSCALE:GREGORIAN
BEGIN:VEVENT
DTSTART:20170511T230000Z
DTEND:20170512T010000Z
X-MICROSOFT-CDO-ALLDAYEVENT:FALSE
SUMMARY:Snow White
DESCRIPTION:SNOW WHITE at Abundant Life Christian School. ALCS Middle School Drama Club presents two performances of Snow White\; Thursday\, May 11 and Friday\, May 12\; 7:00pm. Tickets $6. \n\nTickets available at the door night of performances. Contact cdigiovanni@alcsnet.org to reserve your tickets.
X-ALT-DESC;FMTTYPE=text/html:SNOW WHITE at Abundant Life Christian School. ALCS Middle School Drama Club presents two performances of Snow White\; Thursday\, May 11 and Friday\, May 12\; 7:00pm. Tickets $6.&nbsp\;<br />\nTickets available at the door night of performances. Contact cdigiovanni@alcsnet.org to reserve your tickets.
LOCATION:Abundant Life Christian School\, 173 Church Street\, Wilmington.
UID:e.2938.26
SEQUENCE:3
DTSTAMP:20260420T222019Z
URL:http://wilmingtonma.chambermaster.com/events/details/snow-white-26
END:VEVENT

END:VCALENDAR
